BEGIN:VCALENDAR
VERSION:2.0
PRODID:-//Plain Local Schools Foundation and Alumni Association - ECPv6.15.20//NONSGML v1.0//EN
CALSCALE:GREGORIAN
METHOD:PUBLISH
X-WR-CALNAME:Plain Local Schools Foundation and Alumni Association
X-ORIGINAL-URL:https://plainfoundation.com
X-WR-CALDESC:Events for Plain Local Schools Foundation and Alumni Association
REFRESH-INTERVAL;VALUE=DURATION:PT1H
X-Robots-Tag:noindex
X-PUBLISHED-TTL:PT1H
BEGIN:VTIMEZONE
TZID:America/Detroit
BEGIN:DAYLIGHT
TZOFFSETFROM:-0500
TZOFFSETTO:-0400
TZNAME:EDT
DTSTART:20230312T070000
END:DAYLIGHT
BEGIN:STANDARD
TZOFFSETFROM:-0400
TZOFFSETTO:-0500
TZNAME:EST
DTSTART:20231105T060000
END:STANDARD
BEGIN:DAYLIGHT
TZOFFSETFROM:-0500
TZOFFSETTO:-0400
TZNAME:EDT
DTSTART:20240310T070000
END:DAYLIGHT
BEGIN:STANDARD
TZOFFSETFROM:-0400
TZOFFSETTO:-0500
TZNAME:EST
DTSTART:20241103T060000
END:STANDARD
BEGIN:DAYLIGHT
TZOFFSETFROM:-0500
TZOFFSETTO:-0400
TZNAME:EDT
DTSTART:20250309T070000
END:DAYLIGHT
BEGIN:STANDARD
TZOFFSETFROM:-0400
TZOFFSETTO:-0500
TZNAME:EST
DTSTART:20251102T060000
END:STANDARD
END:VTIMEZONE
BEGIN:VEVENT
DTSTART;TZID=America/Detroit:20241003T180000
DTEND;TZID=America/Detroit:20241003T210000
DTSTAMP:20260422T133924
CREATED:20240919T160412Z
LAST-MODIFIED:20240919T160412Z
UID:8815-1727978400-1727989200@plainfoundation.com
SUMMARY:27th Annual Hall of Distinction Induction Ceremony
DESCRIPTION:Join us Thursday\, October 3rd at 6 pm at the Hall of Fame Village as we recognize Plain Local Schools Alumni and others who have distinguished themselves and have exemplified their community and school system.\nThis year’s inductees are:– Andreas Ellis 1990– Kathy Jordan 1984– Scott Leszczynski 1990– Dr. Laura Bowling 1989– Dr. Louis Shaheen 1978– Mac Worthington 1965 \nWith two new additional categories:– Plain Foundation Honorary Eagle of Distinction: Jared Marcum 2020– Plain Foundation Community Partner of the Year: The Rotary Club of Plain Township\n\nRegister online and also learn about sponsorship opportunities today!\n\nYou will find the event on the 6th level at Hall of Fame Village (2331 17th St. Canton\, Ohio).\n\nIf you have any questions\, please email foundation@plainlocal.org or call 330.491.3870.
URL:https://plainfoundation.com/event/27th-annual-hall-of-distinction-induction-ceremony/
LOCATION:Hall of Fame Village\, 2331 17th St.\, Canton\, OH\, United States
CATEGORIES:Fundraisers,Upcoming Events
ATTACH;FMTTYPE=image/jpeg:https://plainfoundation.com/wp-content/uploads/2024/09/hod-2024-cover.jpg
ORGANIZER;CN="Plain Local Schools Foundation & Alumni Association":MAILTO:foundation@plainlocal.org
END:VEVENT
BEGIN:VEVENT
DTSTART;VALUE=DATE:20241004
DTEND;VALUE=DATE:20241006
DTSTAMP:20260422T133924
CREATED:20240408T233724Z
LAST-MODIFIED:20240408T233926Z
UID:8742-1728000000-1728172799@plainfoundation.com
SUMMARY:Glenwood High School Class of 1973 51st Reunion
DESCRIPTION:GHS Class of ‘73! “Fiesta 51” is planned for October 2024! \nTwo days of fun activities: \n\nFriday\, October 4th\n\nMorning Golf Outing (More details to come!)\nDowntown Canton’s First Friday\n\n\nSaturday\, October 5th\n\nFiesta Picnic from 4-10pm at Uniontown Community Park\n\nBuffet\, Music & Socializing!\nBYOB (or wine)\n\n\n\n\n\nPayment: $35/person \n\nBy check to: Kim Smith – Conrad Ave. Akron Oh 44314\nVenmo: 3303385412\n(This is also Kim’s phone number. Please text him to let him know you sent your payment and the first name of your guest.)\n\nRSVP ASAP online: Glenwood HS Class of 73\, 51st Year Reunion (2024) \n  \nNeed a place to stay? We have a block booked at the Cambria Hotel in Uniontown (330-899-1990). \n\nRate is $129 ($20 discount if you book a room by 9/5/24).\nGroup Glenwood\n\n  \nStay up to date in your Facebook Group: Glenwood High School Canton Ohio \nWe look forward to lots of fun\, food\, and socializing! Be there!
URL:https://plainfoundation.com/event/glenwood-high-school-class-of-1973-51st-reunion/
LOCATION:Uniontown Community Park\, 3696 Apollo St. NW\, Uniontown\, OH\, 44685\, United States
CATEGORIES:Reunions,Upcoming Events
ATTACH;FMTTYPE=image/jpeg:https://plainfoundation.com/wp-content/uploads/2024/04/class-of-1973.jpg
ORGANIZER;CN="Plain Local Schools Foundation & Alumni Association":MAILTO:foundation@plainlocal.org
END:VEVENT
END:VCALENDAR