BEGIN:VCALENDAR
VERSION:2.0
PRODID:-//Plain Local Schools Foundation and Alumni Association - ECPv6.15.20//NONSGML v1.0//EN
CALSCALE:GREGORIAN
METHOD:PUBLISH
X-ORIGINAL-URL:https://plainfoundation.com
X-WR-CALDESC:Events for Plain Local Schools Foundation and Alumni Association
REFRESH-INTERVAL;VALUE=DURATION:PT1H
X-Robots-Tag:noindex
X-PUBLISHED-TTL:PT1H
BEGIN:VTIMEZONE
TZID:America/Detroit
BEGIN:DAYLIGHT
TZOFFSETFROM:-0500
TZOFFSETTO:-0400
TZNAME:EDT
DTSTART:20230312T070000
END:DAYLIGHT
BEGIN:STANDARD
TZOFFSETFROM:-0400
TZOFFSETTO:-0500
TZNAME:EST
DTSTART:20231105T060000
END:STANDARD
BEGIN:DAYLIGHT
TZOFFSETFROM:-0500
TZOFFSETTO:-0400
TZNAME:EDT
DTSTART:20240310T070000
END:DAYLIGHT
BEGIN:STANDARD
TZOFFSETFROM:-0400
TZOFFSETTO:-0500
TZNAME:EST
DTSTART:20241103T060000
END:STANDARD
BEGIN:DAYLIGHT
TZOFFSETFROM:-0500
TZOFFSETTO:-0400
TZNAME:EDT
DTSTART:20250309T070000
END:DAYLIGHT
BEGIN:STANDARD
TZOFFSETFROM:-0400
TZOFFSETTO:-0500
TZNAME:EST
DTSTART:20251102T060000
END:STANDARD
END:VTIMEZONE
BEGIN:VEVENT
DTSTART;TZID=America/Detroit:20240914T183000
DTEND;TZID=America/Detroit:20240914T220000
DTSTAMP:20260422T152208
CREATED:20240906T014933Z
LAST-MODIFIED:20240906T015508Z
UID:8789-1726338600-1726351200@plainfoundation.com
SUMMARY:GlenOak High School Class of 1994 30th Reunion
DESCRIPTION:GOHS Class of 1994\, it’s been 30 years! \nJoin us on Saturday\, September 14th at 6:30pm at the Royal Docks Brewing Company (Oakwood Square) for drinks\, live music by Dan Monea\, and lots of catching up! \nNo tickets will be needed\, but RSVP by September 7th to be included in door prizes (including drink tickets)! \nJoin your GlenOak Class of 1994 Reunion Facebook Group to RSVP or email alice.shoemaker@gmail.com.
URL:https://plainfoundation.com/event/glenoak-high-school-class-of-1994-30th-reunion/
LOCATION:Royal Docks Brewing Company\, 2668 Easton St NE\, Canton\, 44721\, United States
ATTACH;FMTTYPE=image/png:https://plainfoundation.com/wp-content/uploads/2024/09/gohs-class-of-1994-30th-reunion.png
ORGANIZER;CN="Plain Local Schools Foundation & Alumni Association":MAILTO:foundation@plainlocal.org
END:VEVENT
END:VCALENDAR