BEGIN:VCALENDAR
VERSION:2.0
PRODID:-//Plain Local Schools Foundation and Alumni Association - ECPv6.15.20//NONSGML v1.0//EN
CALSCALE:GREGORIAN
METHOD:PUBLISH
X-WR-CALNAME:Plain Local Schools Foundation and Alumni Association
X-ORIGINAL-URL:https://plainfoundation.com
X-WR-CALDESC:Events for Plain Local Schools Foundation and Alumni Association
REFRESH-INTERVAL;VALUE=DURATION:PT1H
X-Robots-Tag:noindex
X-PUBLISHED-TTL:PT1H
BEGIN:VTIMEZONE
TZID:America/Detroit
BEGIN:DAYLIGHT
TZOFFSETFROM:-0500
TZOFFSETTO:-0400
TZNAME:EDT
DTSTART:20140309T070000
END:DAYLIGHT
BEGIN:STANDARD
TZOFFSETFROM:-0400
TZOFFSETTO:-0500
TZNAME:EST
DTSTART:20141102T060000
END:STANDARD
BEGIN:DAYLIGHT
TZOFFSETFROM:-0500
TZOFFSETTO:-0400
TZNAME:EDT
DTSTART:20150308T070000
END:DAYLIGHT
BEGIN:STANDARD
TZOFFSETFROM:-0400
TZOFFSETTO:-0500
TZNAME:EST
DTSTART:20151101T060000
END:STANDARD
BEGIN:DAYLIGHT
TZOFFSETFROM:-0500
TZOFFSETTO:-0400
TZNAME:EDT
DTSTART:20160313T070000
END:DAYLIGHT
BEGIN:STANDARD
TZOFFSETFROM:-0400
TZOFFSETTO:-0500
TZNAME:EST
DTSTART:20161106T060000
END:STANDARD
END:VTIMEZONE
BEGIN:VEVENT
DTSTART;VALUE=DATE:20150925
DTEND;VALUE=DATE:20150926
DTSTAMP:20260423T033519
CREATED:20150505T153604Z
LAST-MODIFIED:20150803T201949Z
UID:5903-1443139200-1443225599@plainfoundation.com
SUMMARY:2nd Annual Alumni Tailgate Party
DESCRIPTION:Save The Date! All Plain Local Alumni and community members are welcome to join us for a pre-game tailgate before the GlenOak vs. Jackson varsity football game. \nCheck out our tailgate packages
URL:https://plainfoundation.com/event/2nd-annual-alumni-tailgate-party/
LOCATION:GlenOak Football Stadium\, Canton\, OH\, United States
CATEGORIES:Upcoming Events
ATTACH;FMTTYPE=image/jpeg:https://plainfoundation.com/wp-content/uploads/2015/04/tailgate-header-art-2015.jpg
END:VEVENT
BEGIN:VEVENT
DTSTART;TZID=America/Detroit:20150919T190000
DTEND;TZID=America/Detroit:20150919T230000
DTSTAMP:20260423T033519
CREATED:20150506T194428Z
LAST-MODIFIED:20150805T224611Z
UID:5992-1442689200-1442703600@plainfoundation.com
SUMMARY:Glenwood Class of 1970 35th Year Reunion
DESCRIPTION:The 45th Reunion for the Glenwood Class of 1970 is being held on Saturday\, September 7th\, 2015\, from 7-11pm  at Fox and Hound English Pub and Grille – 4770 Everhard Rd NW.  Canton\, Ohio \n\nReservation deadline September 7th.  Cost is $20.00 per person.\nQuestions?   email Claudia (Corbit) Sammet – cjsammet1@gmail.com or Jim Gill – jdgill@aol.com\n\nHelp us spread the word and please let us know of classmates who have moved!
URL:https://plainfoundation.com/event/glenwood-class-of-1970-35th-class-reunion/
LOCATION:Fox and Hound English Pub\, 4770 Everhard Rd NW\, Canton\, OH\, 44718\, United States
CATEGORIES:Reunions
ATTACH;FMTTYPE=image/jpeg:https://plainfoundation.com/wp-content/uploads/2015/05/Glenwood-Logo-e1438800362657.jpg
ORGANIZER;CN="Claudia Sammet":MAILTO: cjsammet1@gmail.com
END:VEVENT
BEGIN:VEVENT
DTSTART;VALUE=DATE:20150918
DTEND;VALUE=DATE:20150919
DTSTAMP:20260423T033519
CREATED:20150505T144911Z
LAST-MODIFIED:20150505T144911Z
UID:5892-1442534400-1442620799@plainfoundation.com
SUMMARY:Glenwood Class of 1974 - 40 Year Reunion
DESCRIPTION:40 year reunion Looking for classmates – Call with updated contact information.
URL:https://plainfoundation.com/event/glenwood-class-of-1974-40-year-reunion/
LOCATION:OH
CATEGORIES:Reunions,Upcoming Events
ATTACH;FMTTYPE=image/jpeg:https://plainfoundation.com/wp-content/uploads/2015/05/GO21.jpg
END:VEVENT
BEGIN:VEVENT
DTSTART;TZID=America/Detroit:20150904T130000
DTEND;TZID=America/Detroit:20150904T230000
DTSTAMP:20260423T033519
CREATED:20150806T195022Z
LAST-MODIFIED:20150806T195104Z
UID:6523-1441371600-1441407600@plainfoundation.com
SUMMARY:Glenwood Class of 1960 ~ 55th Year Reunion
DESCRIPTION:Friday Sept 4\, 2015 \nDogwood Park ~ 241 7th St NE\, North Canton\, Ohio. \nStarts at 1pm with dinner at 5pm \nDress is casual.  Catered by classmate Dave Amstutz & Son\, Jack on the Bone Catering\, Cost $10 per person. \nMail Check payable to: Glenwood Class of ’60\, 331 Chapple Hill NE\, North Canton\, OH 44720.   Questions? Call Verna (Gill) Weisel – 330-875-5195 or email jacpete@outlook.com. \nMoney due by July 31st.  Don’t miss this great time to reconnect and visit with classmates and partners.  Building is air conditioned and bring a lawn chair if you wish to be outside.  Feel left out\, would like to help\, contact us – we’ll give you a job.
URL:https://plainfoundation.com/event/glenwood-class-of-1960-55th-year-reunion/
LOCATION:Dogwood Park\, 241 7th Street NE\, North Canton\, OH\, 44720\, United States
ORGANIZER;CN="Verna (Gill) Weisel":MAILTO:jacpete@outlook.com
END:VEVENT
BEGIN:VEVENT
DTSTART;TZID=America/Detroit:20150822T190000
DTEND;TZID=America/Detroit:20150822T230000
DTSTAMP:20260423T033519
CREATED:20150806T191654Z
LAST-MODIFIED:20150806T194046Z
UID:6521-1440270000-1440284400@plainfoundation.com
SUMMARY:Glenwood Class of 1965 ~ 50th Year Reunion
DESCRIPTION:  \nAugust 22\, 2015 \nCasual get-together at The Barrel Room (North Canton) at 7:00 pm \nFor more information and reservations\, contact Mary Ann Parr at (330)494- 4582 or mparr@neo.rr.com or Joann (Samsa) Smith at (330) 492-6013 orjoannsmith80@gmail.com.
URL:https://plainfoundation.com/event/glenwood-class-of-1965-50th-year-reunion-2/
LOCATION:The Barrell Room\, 7901 Cleveland Ave NW\, North Canton\, OH\, 44720\, United States
ORGANIZER;CN="Joann Samsa Smith":MAILTO:joannsmith80@gmail.com
END:VEVENT
BEGIN:VEVENT
DTSTART;TZID=America/Detroit:20150821T173000
DTEND;TZID=America/Detroit:20150821T230000
DTSTAMP:20260423T033519
CREATED:20150806T191433Z
LAST-MODIFIED:20150806T191433Z
UID:6518-1440178200-1440198000@plainfoundation.com
SUMMARY:Glenwood Class of 1965 ~ 50th Year Reunion
DESCRIPTION:August 21\, 2015 \nSkyland Pines Banquet Center \n5:30 pm – Appetizers and Cash Bar \n7:00 pm – Dinner \n  \nFor more information and reservations\, contact Mary Ann Parr at (330)494- 4582 or mparr@neo.rr.com or Joann (Samsa) Smith at (330) 492-6013 orjoannsmith80@gmail.com.
URL:https://plainfoundation.com/event/glenwood-class-of-1965-50th-year-reunion/
LOCATION:Skyland Pines Banquet Center\, 3550 Columbus Rd NE\, Canton\, OH\, 44705\, United States
ORGANIZER;CN="Joann Samsa Smith":MAILTO:joannsmith80@gmail.com
END:VEVENT
BEGIN:VEVENT
DTSTART;VALUE=DATE:20150731
DTEND;VALUE=DATE:20150802
DTSTAMP:20260423T033519
CREATED:20150505T154347Z
LAST-MODIFIED:20150507T202549Z
UID:5905-1438300800-1438473599@plainfoundation.com
SUMMARY:GlenOak Class of 1985 30th Year Reunion
DESCRIPTION:Friday\, July 31\, 2015 \nCasual get-together at Twisted Citrus\, 1649 North Main Street\, North Canton\, Ohio \nSaturday August 1\, 2015 \nThe Sanctuary Golf Club\n 12 pm Golf Outing (Scramble) – $35 per person \n6:30 pm Casual Dinner\, Dancing\, Cash Bar\, Live Entertainment\, 50/50 Raffle – $20/per person \nContact Mona Nowling at 330-806-8196 or mnowling@MCTVOhio.com or Mike Theriault at 513-314-0393 or jen95mike@roadrunner.com. \nMail reservation by July 5th to Mona Nowling\, 3898 Carnegie Avenue NW\, Massillon\, Ohio 44646– Checks payable to GlenOak Class of 1985 \n 
URL:https://plainfoundation.com/event/glenoakclassof1985/
LOCATION:The Sanctuary Golf Club\, 2017 Applegrove Street\, North Canton\, 44720\, United States
CATEGORIES:Fundraisers,Upcoming Events
END:VEVENT
BEGIN:VEVENT
DTSTART;TZID=America/Detroit:20150724T050000
DTEND;TZID=America/Detroit:20150724T170000
DTSTAMP:20260423T033519
CREATED:20150508T202823Z
LAST-MODIFIED:20150508T210533Z
UID:6004-1437714000-1437757200@plainfoundation.com
SUMMARY:Fundraiser for Glenwood Class of 1962 Scholarship Fund
DESCRIPTION:Join the Glenwood Class of 1962 Reunion Committee as they raise money for a scholarship they sponsor annually to a graduating GlenOak senior. \nThis is a perfect excuse not to cook\, support a great cause and catch up with old friends!
URL:https://plainfoundation.com/event/fundraiser-for-glenwood-class-of-1962-scholarship-fund/
LOCATION:Arcadia Grille\, 321 Court Avenue NW\, Canton\, OH\, 44702\, United States
CATEGORIES:Fundraisers
ATTACH;FMTTYPE=image/jpeg:https://plainfoundation.com/wp-content/uploads/2015/05/scholarships-e1431102453508.jpg
ORGANIZER;CN="Nick Sandru":MAILTO:nickgsandru@aol.com
END:VEVENT
END:VCALENDAR