BEGIN:VCALENDAR
VERSION:2.0
PRODID:-//Plain Local Schools Foundation and Alumni Association - ECPv6.15.20//NONSGML v1.0//EN
CALSCALE:GREGORIAN
METHOD:PUBLISH
X-WR-CALNAME:Plain Local Schools Foundation and Alumni Association
X-ORIGINAL-URL:https://plainfoundation.com
X-WR-CALDESC:Events for Plain Local Schools Foundation and Alumni Association
REFRESH-INTERVAL;VALUE=DURATION:PT1H
X-Robots-Tag:noindex
X-PUBLISHED-TTL:PT1H
BEGIN:VTIMEZONE
TZID:America/Detroit
BEGIN:DAYLIGHT
TZOFFSETFROM:-0500
TZOFFSETTO:-0400
TZNAME:EDT
DTSTART:20210314T070000
END:DAYLIGHT
BEGIN:STANDARD
TZOFFSETFROM:-0400
TZOFFSETTO:-0500
TZNAME:EST
DTSTART:20211107T060000
END:STANDARD
BEGIN:DAYLIGHT
TZOFFSETFROM:-0500
TZOFFSETTO:-0400
TZNAME:EDT
DTSTART:20220313T070000
END:DAYLIGHT
BEGIN:STANDARD
TZOFFSETFROM:-0400
TZOFFSETTO:-0500
TZNAME:EST
DTSTART:20221106T060000
END:STANDARD
BEGIN:DAYLIGHT
TZOFFSETFROM:-0500
TZOFFSETTO:-0400
TZNAME:EDT
DTSTART:20230312T070000
END:DAYLIGHT
BEGIN:STANDARD
TZOFFSETFROM:-0400
TZOFFSETTO:-0500
TZNAME:EST
DTSTART:20231105T060000
END:STANDARD
END:VTIMEZONE
BEGIN:VEVENT
DTSTART;TZID=America/Detroit:20221022T180000
DTEND;TZID=America/Detroit:20221022T230000
DTSTAMP:20260419T134421
CREATED:20220222T205309Z
LAST-MODIFIED:20220222T205702Z
UID:8043-1666461600-1666479600@plainfoundation.com
SUMMARY:GOHS Class of 1982: 40th Reunion
DESCRIPTION:Attention GlenOak High School Class of 1982: \nMark your calendars for your 40th reunion!\nOctober 22\, 2022 at the Hall of Fame Village from 6-11 PM \nFor more information\, contact Denise Evans at: devans@cutlerhomes.com \nYou can also stay updated in your Class of 1982 Facebook group!
URL:https://plainfoundation.com/event/gohs-class-of-1982-40th-reunion/
LOCATION:Hall of Fame Village\, 2331 17th St.\, Canton\, OH\, United States
CATEGORIES:Reunions
ATTACH;FMTTYPE=image/png:https://plainfoundation.com/wp-content/uploads/2022/02/class-of-1982-reunion-event-image.png
ORGANIZER;CN="Denise Evans":MAILTO:devans@cutlerhomes.com
END:VEVENT
END:VCALENDAR