BEGIN:VCALENDAR
VERSION:2.0
PRODID:-//Plain Local Schools Foundation and Alumni Association - ECPv6.15.20//NONSGML v1.0//EN
CALSCALE:GREGORIAN
METHOD:PUBLISH
X-ORIGINAL-URL:https://plainfoundation.com
X-WR-CALDESC:Events for Plain Local Schools Foundation and Alumni Association
REFRESH-INTERVAL;VALUE=DURATION:PT1H
X-Robots-Tag:noindex
X-PUBLISHED-TTL:PT1H
BEGIN:VTIMEZONE
TZID:America/Detroit
BEGIN:DAYLIGHT
TZOFFSETFROM:-0500
TZOFFSETTO:-0400
TZNAME:EDT
DTSTART:20210314T070000
END:DAYLIGHT
BEGIN:STANDARD
TZOFFSETFROM:-0400
TZOFFSETTO:-0500
TZNAME:EST
DTSTART:20211107T060000
END:STANDARD
BEGIN:DAYLIGHT
TZOFFSETFROM:-0500
TZOFFSETTO:-0400
TZNAME:EDT
DTSTART:20220313T070000
END:DAYLIGHT
BEGIN:STANDARD
TZOFFSETFROM:-0400
TZOFFSETTO:-0500
TZNAME:EST
DTSTART:20221106T060000
END:STANDARD
BEGIN:DAYLIGHT
TZOFFSETFROM:-0500
TZOFFSETTO:-0400
TZNAME:EDT
DTSTART:20230312T070000
END:DAYLIGHT
BEGIN:STANDARD
TZOFFSETFROM:-0400
TZOFFSETTO:-0500
TZNAME:EST
DTSTART:20231105T060000
END:STANDARD
END:VTIMEZONE
BEGIN:VEVENT
DTSTART;TZID=America/Detroit:20221001T190000
DTEND;TZID=America/Detroit:20221001T220000
DTSTAMP:20260419T135727
CREATED:20220913T184955Z
LAST-MODIFIED:20230406T131800Z
UID:8350-1664650800-1664661600@plainfoundation.com
SUMMARY:GOHS Classes of 2001 & 2002: 20th Reunion
DESCRIPTION:Attention GlenOak High School Classes of 2001 AND 2002: \nMark your calendars for your 20th reunion!\nOctober 1\, 2022 at the Hall of Fame Village – Club Suite from 7-10 PM \n\nCash bar\nLight appetizers\nDJ and more!\n\nPurchase your tickets today (no tickets will be sold at the event)! Looking forward to connecting with familiar faces! \n2001 alumni: Stay up to date in your GlenOak High School 2001 grads! Facebook Group!
URL:https://plainfoundation.com/event/gohs-classes-of-2001-2002-20th-reunion/
LOCATION:Hall of Fame Village – Club Suite\, 2014 Blake Avenue NW\, Canton\, 44718
CATEGORIES:Reunions,Upcoming Events
ATTACH;FMTTYPE=image/png:https://plainfoundation.com/wp-content/uploads/2022/09/classes-of-2001.2002-reunion_calendar-ft.-image.png
ORGANIZER;CN="Plain Local Schools Foundation & Alumni Association":MAILTO:foundation@plainlocal.org
END:VEVENT
END:VCALENDAR