BEGIN:VCALENDAR
VERSION:2.0
PRODID:-//Plain Local Schools Foundation and Alumni Association - ECPv6.15.20//NONSGML v1.0//EN
CALSCALE:GREGORIAN
METHOD:PUBLISH
X-WR-CALNAME:Plain Local Schools Foundation and Alumni Association
X-ORIGINAL-URL:https://plainfoundation.com
X-WR-CALDESC:Events for Plain Local Schools Foundation and Alumni Association
REFRESH-INTERVAL;VALUE=DURATION:PT1H
X-Robots-Tag:noindex
X-PUBLISHED-TTL:PT1H
BEGIN:VTIMEZONE
TZID:America/Detroit
BEGIN:DAYLIGHT
TZOFFSETFROM:-0500
TZOFFSETTO:-0400
TZNAME:EDT
DTSTART:20210314T070000
END:DAYLIGHT
BEGIN:STANDARD
TZOFFSETFROM:-0400
TZOFFSETTO:-0500
TZNAME:EST
DTSTART:20211107T060000
END:STANDARD
BEGIN:DAYLIGHT
TZOFFSETFROM:-0500
TZOFFSETTO:-0400
TZNAME:EDT
DTSTART:20220313T070000
END:DAYLIGHT
BEGIN:STANDARD
TZOFFSETFROM:-0400
TZOFFSETTO:-0500
TZNAME:EST
DTSTART:20221106T060000
END:STANDARD
BEGIN:DAYLIGHT
TZOFFSETFROM:-0500
TZOFFSETTO:-0400
TZNAME:EDT
DTSTART:20230312T070000
END:DAYLIGHT
BEGIN:STANDARD
TZOFFSETFROM:-0400
TZOFFSETTO:-0500
TZNAME:EST
DTSTART:20231105T060000
END:STANDARD
END:VTIMEZONE
BEGIN:VEVENT
DTSTART;TZID=America/Detroit:20220813T173000
DTEND;TZID=America/Detroit:20220813T230000
DTSTAMP:20260419T152137
CREATED:20220420T132219Z
LAST-MODIFIED:20220420T132315Z
UID:8159-1660411800-1660431600@plainfoundation.com
SUMMARY:GOHS Class of 1980: 42nd Reunion
DESCRIPTION:Attention GlenOak High School Class of 1980: \nMark your calendars for your 42nd reunion!\nAugust 13\, 2022 at the Lake Cable Clubhouse & Pavilion at 5:30PM \n\nLittle Italian Kitchen buffet dinner at 6:15PM\nDJ\, dancing & 70/80’s music videos\nComplimentary beer\, wine\, pop & mixers (BYOB)\nSwenson’s late-night food truck burgers\nCasual\, comfortable summer attire\n1980 Alumni pricing: $20 per person; $40 for couples (Other alumni and friends: $45 per person)\n\nRSVP by July 8th! \nDownload this form and choose one of the following payment methods: \n\nSend a check to Laura Ianni: 5035 Violet Knoll Ave. NE Canton\, OH 44705\n\nPayable to: GlenOak Class of 80\n\n\nVenmo: @Melissa-Volkert-1\n\nThen scan and email the form to: Laianni8@gmail.com\n\n\n\nFor more information\, please contact: Melissa Volkert (330-754-6409) or Laura Ianni (330-323-5440).
URL:https://plainfoundation.com/event/gohs-class-of-1980-42nd-reunion/
LOCATION:Lake Cable Clubhouse & Pavilion\, 5725 Fulton Dr. NW\, Canton\, OH\, 44718\, United States
CATEGORIES:Reunions
ATTACH;FMTTYPE=image/png:https://plainfoundation.com/wp-content/uploads/2022/04/class-of-1980-reunion_website-calendar-ft.-image.png
ORGANIZER;CN="Plain Local Schools Foundation & Alumni Association":MAILTO:foundation@plainlocal.org
END:VEVENT
BEGIN:VEVENT
DTSTART;TZID=America/Detroit:20220813T183000
DTEND;TZID=America/Detroit:20220813T230000
DTSTAMP:20260419T152137
CREATED:20220720T163905Z
LAST-MODIFIED:20220720T163905Z
UID:8244-1660415400-1660431600@plainfoundation.com
SUMMARY:Glenwood Class of 1961: 61st Reunion
DESCRIPTION:Attention Glenwood High School Class of 1961: \nMark your calendars for your 61st reunion!\nAugust 13\, 2022 at the Arrowhead Country Club in North Canton\, Ohio at 6:30 PM \nFor more information\, contact Gary Bresson at: gbresson@ameritech.net or 330-284-0859
URL:https://plainfoundation.com/event/glenwood-class-of-1961-61st-reunion/
LOCATION:Arrowhead Golf Club & Banquet Center\, 1500 Rogwin Circle SW\, North Canton\, OH\, 44720\, United States
CATEGORIES:Reunions
ATTACH;FMTTYPE=image/jpeg:https://plainfoundation.com/wp-content/uploads/2022/07/class-of-1961-reunion_calendar-ft.-image.jpg
ORGANIZER;CN="Plain Local Schools Foundation & Alumni Association":MAILTO:foundation@plainlocal.org
END:VEVENT
BEGIN:VEVENT
DTSTART;TZID=America/Detroit:20220820T080000
DTEND;TZID=America/Detroit:20220820T170000
DTSTAMP:20260419T152137
CREATED:20220815T201047Z
LAST-MODIFIED:20220815T201047Z
UID:8273-1660982400-1661014800@plainfoundation.com
SUMMARY:Glenwood High School Class of 1972: 50th Reunion
DESCRIPTION:Attention Glenwood High School Class of 1972: \nMark your calendars for your 50th reunion on August 20\, 2022!
URL:https://plainfoundation.com/event/glenwood-high-school-class-of-1972-50th-reunion/
LOCATION:OH
CATEGORIES:Reunions
END:VEVENT
BEGIN:VEVENT
DTSTART;TZID=America/Detroit:20220827T190000
DTEND;TZID=America/Detroit:20220827T220000
DTSTAMP:20260419T152137
CREATED:20220804T161851Z
LAST-MODIFIED:20220804T161851Z
UID:8265-1661626800-1661637600@plainfoundation.com
SUMMARY:GOHS Class of 1977: 45th Reunion
DESCRIPTION:Attention GlenOak High School Class of 1977: \nMark your calendars for your laid back 45th reunion!\nAugust 27\, 2022 at the Bud’s Corner from 7-10 PM \n\nMeet for drinks/food and stay for laughs!\nJoin us at 8 PM for Gary Markasky\, former lead guitarist with Michael Stanley Band is playing!\nAnd sign up to help plan your 50th reunion!
URL:https://plainfoundation.com/event/gohs-class-of-1977-45th-reunion/
LOCATION:Bud’s Corner\, 5750 Columbus Rd NE\, Louisville\, OH\, 44641\, United States
CATEGORIES:Reunions
ATTACH;FMTTYPE=image/jpeg:https://plainfoundation.com/wp-content/uploads/2022/08/class-of-1977-renuion_-calendar-ft.-image.jpg
ORGANIZER;CN="Plain Local Schools Foundation & Alumni Association":MAILTO:foundation@plainlocal.org
END:VEVENT
END:VCALENDAR