BEGIN:VCALENDAR
VERSION:2.0
PRODID:-//Plain Local Schools Foundation and Alumni Association - ECPv6.15.20//NONSGML v1.0//EN
CALSCALE:GREGORIAN
METHOD:PUBLISH
X-ORIGINAL-URL:https://plainfoundation.com
X-WR-CALDESC:Events for Plain Local Schools Foundation and Alumni Association
REFRESH-INTERVAL;VALUE=DURATION:PT1H
X-Robots-Tag:noindex
X-PUBLISHED-TTL:PT1H
BEGIN:VTIMEZONE
TZID:America/Detroit
BEGIN:DAYLIGHT
TZOFFSETFROM:-0500
TZOFFSETTO:-0400
TZNAME:EDT
DTSTART:20210314T070000
END:DAYLIGHT
BEGIN:STANDARD
TZOFFSETFROM:-0400
TZOFFSETTO:-0500
TZNAME:EST
DTSTART:20211107T060000
END:STANDARD
BEGIN:DAYLIGHT
TZOFFSETFROM:-0500
TZOFFSETTO:-0400
TZNAME:EDT
DTSTART:20220313T070000
END:DAYLIGHT
BEGIN:STANDARD
TZOFFSETFROM:-0400
TZOFFSETTO:-0500
TZNAME:EST
DTSTART:20221106T060000
END:STANDARD
BEGIN:DAYLIGHT
TZOFFSETFROM:-0500
TZOFFSETTO:-0400
TZNAME:EDT
DTSTART:20230312T070000
END:DAYLIGHT
BEGIN:STANDARD
TZOFFSETFROM:-0400
TZOFFSETTO:-0500
TZNAME:EST
DTSTART:20231105T060000
END:STANDARD
END:VTIMEZONE
BEGIN:VEVENT
DTSTART;TZID=America/Detroit:20220723T180000
DTEND;TZID=America/Detroit:20220723T220000
DTSTAMP:20260419T170116
CREATED:20220323T173745Z
LAST-MODIFIED:20220323T173921Z
UID:8120-1658599200-1658613600@plainfoundation.com
SUMMARY:GOHS Class of 1981: 41st Reunion
DESCRIPTION:Attention GlenOak High School Class of 1981: \nMark your calendars for your 41st reunion!\nJuly 23\, 2022 at Santangelo’s Party Center \n\nCocktail hour at 6PM\nBuffet dinner at 7PM\nDJ\, 50/50 Drawing and Basket Raffles!\n$40 for singles; $75 for couples\n\nRSVP by June 30th! \nYou can also join us for a night-before gathering on July 22 at 7PM on the Piazza at Gervasi Vineyards! \nPayment information: \n\nSend a check to Billy Groves: 5215 Broadway Ave.\, Louisville\, OH\, 44641\nZelle: Denise Lipson-Fesel (330-256-9973)\nVenmo: @Tina-romy\nCash App: $tinaromy\n\nLodging at Hampton Inn: 44 First St. Sq\, Massillon\, OH\, 44647 – (330) 834-1144 [Discount code: G81]\nStay updated in your Class of 1981 Facebook group! \nIf you have any questions or would like to add your current physical address to our mailing list\, please email loripudoka@gmail.com (and include your maiden name\, if you have one).
URL:https://plainfoundation.com/event/gohs-class-of-1981-41st-reunion/
LOCATION:Santangelo’s Party Center\, 1008 9th St SW\, Massillon\, OH\, 44647\, United States
CATEGORIES:Reunions
ATTACH;FMTTYPE=image/png:https://plainfoundation.com/wp-content/uploads/2022/03/class-of-81-reunion-event-website-image.png
ORGANIZER;CN="Plain Local Schools Foundation & Alumni Association":MAILTO:foundation@plainlocal.org
END:VEVENT
END:VCALENDAR